BEGIN:VCALENDAR
VERSION:2.0
PRODID:-//Gold Coast Recreation &amp; Sport Inc - ECPv6.14.2//NONSGML v1.0//EN
CALSCALE:GREGORIAN
METHOD:PUBLISH
X-ORIGINAL-URL:https://gcrs.com.au
X-WR-CALDESC:Events for Gold Coast Recreation &amp; Sport Inc
REFRESH-INTERVAL;VALUE=DURATION:PT1H
X-Robots-Tag:noindex
X-PUBLISHED-TTL:PT1H
BEGIN:VTIMEZONE
TZID:Australia/Brisbane
BEGIN:STANDARD
TZOFFSETFROM:+1000
TZOFFSETTO:+1000
TZNAME:AEST
DTSTART:20260101T000000
END:STANDARD
END:VTIMEZONE
BEGIN:VEVENT
DTSTART;TZID=Australia/Brisbane:20260910T080000
DTEND;TZID=Australia/Brisbane:20260910T170000
DTSTAMP:20260425T042536
CREATED:20251215T014245Z
LAST-MODIFIED:20251215T022049Z
UID:3067-1789027200-1789059600@gcrs.com.au
SUMMARY:GCRS Program closure - Annual Athletics Championships
DESCRIPTION:We will be closed for regular programs today due to our annual athletics championships. \nAll regular programs will resume on Friday 11th September.
URL:https://gcrs.com.au/event/gcrs-program-closure-annual-athletics-carnival/
ATTACH;FMTTYPE=image/jpeg:https://gcrs.com.au/wp-content/uploads/2025/12/Athletics-carnival-closure.jpg
END:VEVENT
BEGIN:VEVENT
DTSTART;TZID=Australia/Brisbane:20260919T090000
DTEND;TZID=Australia/Brisbane:20260919T120000
DTSTAMP:20260425T042536
CREATED:20251215T015129Z
LAST-MODIFIED:20251215T015129Z
UID:3081-1789808400-1789819200@gcrs.com.au
SUMMARY:GCRS Annual General Meeting
DESCRIPTION:Save the date for our AGM
URL:https://gcrs.com.au/event/gcrs-annual-general-meeting/
CATEGORIES:Events
ATTACH;FMTTYPE=image/jpeg:https://gcrs.com.au/wp-content/uploads/2025/12/AGM-26.jpg
END:VEVENT
BEGIN:VEVENT
DTSTART;TZID=Australia/Brisbane:20261005T080000
DTEND;TZID=Australia/Brisbane:20261005T170000
DTSTAMP:20260425T042536
CREATED:20250917T035541Z
LAST-MODIFIED:20250917T035541Z
UID:2796-1791187200-1791219600@gcrs.com.au
SUMMARY:Kings Birthday Public Holiday Closure
DESCRIPTION:We will be closed Monday 5th October 2026 for Kings Birthday Public Holiday. Our programs will resume Tuesday 6th October.
URL:https://gcrs.com.au/event/kings-birthday-public-holiday-closure-2/
CATEGORIES:Public Holidays
ATTACH;FMTTYPE=image/jpeg:https://gcrs.com.au/wp-content/uploads/2025/09/Kings-Bday-Public-holiday2026.jpg
END:VEVENT
BEGIN:VEVENT
DTSTART;TZID=Australia/Brisbane:20261014T180000
DTEND;TZID=Australia/Brisbane:20261014T210000
DTSTAMP:20260425T042536
CREATED:20251215T014603Z
LAST-MODIFIED:20251215T014603Z
UID:3071-1792000800-1792011600@gcrs.com.au
SUMMARY:GCRS Art Expo
DESCRIPTION:Save the date \nJoin us for our ART EXPO at Miami Marketta. \nMore details to follow
URL:https://gcrs.com.au/event/gcrs-art-expo-2/
LOCATION:Miami Marketta\, 23 Hillcrest Parade\, Miami\, Queensland\, 4220\, Australia
CATEGORIES:Events
ATTACH;FMTTYPE=image/jpeg:https://gcrs.com.au/wp-content/uploads/2025/12/Art-Expo-2026.jpg
END:VEVENT
BEGIN:VEVENT
DTSTART;TZID=Australia/Brisbane:20261022T120000
DTEND;TZID=Australia/Brisbane:20261022T133000
DTSTAMP:20260425T042536
CREATED:20251029T034847Z
LAST-MODIFIED:20251029T034847Z
UID:2990-1792670400-1792675800@gcrs.com.au
SUMMARY:AIP Community of Practice October 2026
DESCRIPTION:Are you an allied health professional or sports\, fitness/recreational service provider who wants to collaborate\, share and gain knowledge in the inclusion space? \nOur Active inclusion Program Community of Practice is held bi monthly and is a fantastic way of connecting with local stakeholders\, government agencies\, grassroots providers and other allied health organisations. \nOur aim is to support and upskill the local industry through: \n\nRelevant speakers\nSharing of resources\nPromotion of best practice organisations/programs\nProject collaboration\nEducation and knowledge\n\nWould you like to join us? \nCommunity of Practice meetings are held online making them more accessible and you can listen in or contribute as much or as little as you like. \nEmail AIP@gcrs.com.au to receive your link to join
URL:https://gcrs.com.au/event/aip-community-of-practice-october-2026/
LOCATION:Online
CATEGORIES:Active Inclusion Program Events
ATTACH;FMTTYPE=image/jpeg:https://gcrs.com.au/wp-content/uploads/2025/10/Oct-26-CoP.jpg
END:VEVENT
BEGIN:VEVENT
DTSTART;TZID=Australia/Brisbane:20261024T123000
DTEND;TZID=Australia/Brisbane:20261024T160000
DTSTAMP:20260425T042536
CREATED:20250917T035215Z
LAST-MODIFIED:20250917T035215Z
UID:2820-1792845000-1792857600@gcrs.com.au
SUMMARY:Annual Gala Performance Concert
DESCRIPTION:Save the date for our annual gala performance concert! \nMore details coming soon
URL:https://gcrs.com.au/event/annual-gala-performance-concert/
CATEGORIES:Events
ATTACH;FMTTYPE=image/jpeg:https://gcrs.com.au/wp-content/uploads/2025/09/Gala-Performance-Concert-26.jpg
END:VEVENT
BEGIN:VEVENT
DTSTART;TZID=Australia/Brisbane:20261128T180000
DTEND;TZID=Australia/Brisbane:20261128T220000
DTSTAMP:20260425T042536
CREATED:20251215T014933Z
LAST-MODIFIED:20251215T014933Z
UID:3076-1795888800-1795903200@gcrs.com.au
SUMMARY:Christmas Party - Participants and Staff
DESCRIPTION:Save the date! \nOur annual Christmas party is always a crowd favorite. \nMore details to follow.
URL:https://gcrs.com.au/event/christmas-party-participants-and-staff/
LOCATION:Southport Sharks Club\, Corner Olsen and Musgrave Ave\, Southport\, QLD\, Australia
CATEGORIES:Events
ATTACH;FMTTYPE=image/jpeg:https://gcrs.com.au/wp-content/uploads/2025/12/Save-the-date-Xmas-26.jpg
END:VEVENT
BEGIN:VEVENT
DTSTART;TZID=Australia/Brisbane:20261203T120000
DTEND;TZID=Australia/Brisbane:20261203T133000
DTSTAMP:20260425T042536
CREATED:20251029T034202Z
LAST-MODIFIED:20251029T034338Z
UID:2985-1796299200-1796304600@gcrs.com.au
SUMMARY:AIP Community of Practice December 2026
DESCRIPTION:Are you an allied health professional or sports\, fitness/recreational service provider who wants to collaborate\, share and gain knowledge in the inclusion space? \nOur Active inclusion Program Community of Practice is held bi monthly and is a fantastic way of connecting with local stakeholders\, government agencies\, grassroots providers and other allied health organisations. \nOur aim is to support and upskill the local industry through: \n\nRelevant speakers\nSharing of resources\nPromotion of best practice organisations/programs\nProject collaboration\nEducation and knowledge\n\nWould you like to join us? \nCommunity of Practice meetings are held online making them more accessible and you can listen in or contribute as much or as little as you like. \nEmail AIP@gcrs.com.au to receive your link to join
URL:https://gcrs.com.au/event/aip-community-of-practice-december-2026/
LOCATION:Online
CATEGORIES:Active Inclusion Program Events
ATTACH;FMTTYPE=image/jpeg:https://gcrs.com.au/wp-content/uploads/2025/10/Dec-26-CoP.jpg
END:VEVENT
BEGIN:VEVENT
DTSTART;TZID=Australia/Brisbane:20261206T123000
DTEND;TZID=Australia/Brisbane:20261206T170000
DTSTAMP:20260425T042536
CREATED:20250917T035120Z
LAST-MODIFIED:20250917T040205Z
UID:2825-1796560200-1796576400@gcrs.com.au
SUMMARY:Annual Drama Performance Concert
DESCRIPTION:Save the date for our annual drama performance concert \nMore details will be available soon
URL:https://gcrs.com.au/event/annual-drama-performance-concert/
CATEGORIES:Events
ATTACH;FMTTYPE=image/jpeg:https://gcrs.com.au/wp-content/uploads/2025/09/Gala-Performance-concert-26-1.jpg
END:VEVENT
BEGIN:VEVENT
DTSTART;TZID=Australia/Brisbane:20261217T080000
DTEND;TZID=Australia/Brisbane:20261217T170000
DTSTAMP:20260425T042536
CREATED:20251215T015509Z
LAST-MODIFIED:20251215T020635Z
UID:3087-1797494400-1797526800@gcrs.com.au
SUMMARY:Last day of Programs for 2026
DESCRIPTION:Today is our last day for programs for 2026. \nWe will be closed from tomorrow Friday December 18th and reopen on Wednesday 6th January 2027.
URL:https://gcrs.com.au/event/last-day-of-programs-for-2026/
ATTACH;FMTTYPE=image/jpeg:https://gcrs.com.au/wp-content/uploads/2025/12/Last-day-of-programs-Thursday-17th-December-2026.jpg
END:VEVENT
BEGIN:VEVENT
DTSTART;TZID=Australia/Brisbane:20261218T070000
DTEND;TZID=Australia/Brisbane:20270106T080000
DTSTAMP:20260425T042536
CREATED:20251215T015838Z
LAST-MODIFIED:20251215T015926Z
UID:3092-1797577200-1799222400@gcrs.com.au
SUMMARY:Christmas Closure 2026
DESCRIPTION:We will be closed from 4pm Thursday 17th December 2026 and reopen 8am Wednesday 6th January 2027. \nWe would like to wish you all a very Merry Christmas and Happy New Year.
URL:https://gcrs.com.au/event/christmas-closure-2026/
CATEGORIES:Events
ATTACH;FMTTYPE=image/jpeg:https://gcrs.com.au/wp-content/uploads/2025/12/Christmas-holidays-26.jpg
END:VEVENT
BEGIN:VEVENT
DTSTART;TZID=Australia/Brisbane:20270106T080000
DTEND;TZID=Australia/Brisbane:20270106T160000
DTSTAMP:20260425T042536
CREATED:20251215T021439Z
LAST-MODIFIED:20251215T021439Z
UID:3097-1799222400-1799251200@gcrs.com.au
SUMMARY:Welcome back 2027
DESCRIPTION:We welcome you back to programs today! \nWe are looking forward to seeing you.
URL:https://gcrs.com.au/event/welcome-back-2027/
ATTACH;FMTTYPE=image/jpeg:https://gcrs.com.au/wp-content/uploads/2025/12/Reopen-Wed-6th-January27.jpg
END:VEVENT
END:VCALENDAR