BEGIN:VCALENDAR
VERSION:2.0
PRODID:-//Gold Coast Recreation and Sport Inc - ECPv4.6.19//NONSGML v1.0//EN
CALSCALE:GREGORIAN
METHOD:PUBLISH
X-WR-CALNAME:Gold Coast Recreation and Sport Inc
X-ORIGINAL-URL:http://gcrs.com.au
X-WR-CALDESC:Events for Gold Coast Recreation and Sport Inc
BEGIN:VEVENT
DTSTART;VALUE=DATE:20200707
DTEND;VALUE=DATE:20200708
DTSTAMP:20200229T144353
CREATED:20200121T010654Z
LAST-MODIFIED:20200121T010654Z
UID:1036-1594080000-1594166399@gcrs.com.au
SUMMARY:TREC 4 REC
DESCRIPTION:The Trec for Rec will once again be at Pizzy Park\, Miami! \nThe Trec for Rec is Gold Coast Recreation and Sport’s biggest fundraiser of the year. Over 200 Clients take part in a 5 km or 7.5 km Trec.  There will be lots of activities for everyone to get involved on the day including Soccer\, Cricket\, AFL\, Touch Rugby\, Zumba and Table Tennis. \nFamilies and friends are encouraged to come along and take part in a fantastic family day in support of Gold Coast Recreation & Sport Inc. \nWalkers can collect sponsorship to complete the 5 km or 7.5 km circuit.  Start collecting sponsors now by downloading a Trec For Rec Sponsorship Form. \nSponsorship Form \nParticipants can also register on the day\, prices as follows: \n\nIndividual registration $10.00\nIndividual registration + lunch + drink $15.00\nFamily registration is $20.00\n\nRegistration will open at 9.00 am on the day and the Trec will commence at 10.00 am. \nBBQ lunch and drinks available for purchase \n
URL:http://gcrs.com.au/event/trec-4-rec/
LOCATION:Pacific Avenue\, Miami\, Queensland\, 4220\, Australia
END:VEVENT
END:VCALENDAR