BEGIN:VCALENDAR
VERSION:2.0
PRODID:-//Gold Coast Recreation and Sport Inc - ECPv4.6.19//NONSGML v1.0//EN
CALSCALE:GREGORIAN
METHOD:PUBLISH
X-WR-CALNAME:Gold Coast Recreation and Sport Inc
X-ORIGINAL-URL:http://gcrs.com.au
X-WR-CALDESC:Events for Gold Coast Recreation and Sport Inc
BEGIN:VEVENT
DTSTART;TZID=UTC+10:20200208T180000
DTEND;TZID=UTC+10:20200208T213000
DTSTAMP:20200225T232824
CREATED:20200123T235812Z
LAST-MODIFIED:20200123T235812Z
UID:1042-1581184800-1581197400@gcrs.com.au
SUMMARY:DISCO
DESCRIPTION:VENUE: BAVIA Hall &#8211; 14 Kalimna Dr Broadbeach Waters\n6.00pm &#8211; 9.30pm\nEntry is $10 and includes Dinner\nDrinks and Snacks available for cash purchase (Sorry\, no EFTPOS) \nTransport available however very limited. Phone Admin on 5531 3312 to book a spot &#8211; cost is $7 to be paid directly to driver \n
URL:http://gcrs.com.au/event/disco-5/
LOCATION:14 Kalimna Drive\, Broadbeach Waters\, Queensland\, 4218\, Australia
END:VEVENT
END:VCALENDAR