BEGIN:VCALENDAR
VERSION:2.0
PRODID:-//Gold Coast Recreation and Sport Inc - ECPv4.6.19//NONSGML v1.0//EN
CALSCALE:GREGORIAN
METHOD:PUBLISH
X-WR-CALNAME:Gold Coast Recreation and Sport Inc
X-ORIGINAL-URL:http://gcrs.com.au
X-WR-CALDESC:Events for Gold Coast Recreation and Sport Inc
BEGIN:VEVENT
DTSTART;VALUE=DATE:20200127
DTEND;VALUE=DATE:20200128
DTSTAMP:20200225T232459
CREATED:20200124T000000Z
LAST-MODIFIED:20200124T000037Z
UID:1044-1580083200-1580169599@gcrs.com.au
SUMMARY:CLOSED - Australia Day Public Holiday
DESCRIPTION:Office will re-open Tuesday 28th January 2020\, 8.00am \n
URL:http://gcrs.com.au/event/closed-australia-day-public-holiday/
END:VEVENT
END:VCALENDAR