BEGIN:VCALENDAR
VERSION:2.0
PRODID:-//Gold Coast Recreation and Sport Inc - ECPv4.6.19//NONSGML v1.0//EN
CALSCALE:GREGORIAN
METHOD:PUBLISH
X-WR-CALNAME:Gold Coast Recreation and Sport Inc
X-ORIGINAL-URL:http://gcrs.com.au
X-WR-CALDESC:Events for Gold Coast Recreation and Sport Inc
BEGIN:VEVENT
DTSTART;TZID=UTC+10:20190905T080000
DTEND;TZID=UTC+10:20190905T143000
DTSTAMP:20200229T144158
CREATED:20190618T033616Z
LAST-MODIFIED:20190618T033616Z
UID:1029-1567670400-1567693800@gcrs.com.au
SUMMARY:Annual Athletics Championships
DESCRIPTION:Annual Athletics Championships  \n  \nBeginning in 1986\, the Gold Coast Cabs Annual Athletics Championships has grown from 80 athletes from 3 schools to today catering for over 1000 athletes from 35 schools \nIt is the only event in South-East Queensland that is specifically for children with a disability\, focusing on participation along with providing a valuable stepping stone for children wishing to progress to a competitive level. \n  \nThe Event Day \nThe day commences with a march past at 9.15 am with each school parading the athletics oval dressed to match their chosen theme. This is followed by the official opening ceremony with the lighting of the flame â€“ the events equivalent to the Olympic flame. \nThere are approximately 400 events including track sprints\, wheelchair events\, a sports skills challenge and a Goodwill Games component. \nThe majority of these students seldom get the opportunity to participate on a competitive level. \n  \nThe People \nGold Coast Recreation & Sport Inc will be holding the event for its 32ndÂ year at Runaway Bay Sports Super Centre. Gold Coast Cabs have been the major partner of the event for more thanÂ 30 years. \nAdditional support is provided by Gold Coast businesses\, schools\, teachers\, parents\, carers and community organisations such as Special Olympics Queensland. \nThe event has also had many notable guests (premiers\, mayors and well known athletes) over the years to support and officiate at the opening ceremony. \n  \nEVENT DOCUMENTS AND INFORMATION:\n\nAthletics Carnival 2019 Event Information\nNominations Form\nEvent Day Map\nAmendment Form\nHelpful Hints 2019\n\n
URL:http://gcrs.com.au/event/annual-athletics-championships-2/
LOCATION:1 Sports Drive\, Runaway Bay\, Queensland\, 4216\, Australia
END:VEVENT
END:VCALENDAR