BEGIN:VCALENDAR
VERSION:2.0
PRODID:-//Gold Coast Recreation and Sport Inc - ECPv4.6.19//NONSGML v1.0//EN
CALSCALE:GREGORIAN
METHOD:PUBLISH
X-WR-CALNAME:Gold Coast Recreation and Sport Inc
X-ORIGINAL-URL:http://gcrs.com.au
X-WR-CALDESC:Events for Gold Coast Recreation and Sport Inc
BEGIN:VEVENT
DTSTART;TZID=UTC+10:20190822T090000
DTEND;TZID=UTC+10:20190822T140000
DTSTAMP:20200229T150934
CREATED:20190618T034630Z
LAST-MODIFIED:20190618T034630Z
UID:1032-1566464400-1566482400@gcrs.com.au
SUMMARY:Eisteddfod
DESCRIPTION:Each year we host our annual Eisteddfod at the Robina Community Centre. \nLocal Schools and dance groups come together to deliver an unforgettable experience. Talents vary from dance\, song to musical instruments and all performers are judged by our Adjudicator. \nThis is a heart-warming event that showcases not only the talent but the passion and strength of all performers \n
URL:http://gcrs.com.au/event/eisteddfod-2/
LOCATION:196 Robina Town Centre Drive\, corner San Antonio Court\, Robina\, Queensland\, 4226\, Australia
END:VEVENT
END:VCALENDAR