BEGIN:VCALENDAR
VERSION:2.0
PRODID:-//Gold Coast Recreation and Sport Inc - ECPv4.6.19//NONSGML v1.0//EN
CALSCALE:GREGORIAN
METHOD:PUBLISH
X-WR-CALNAME:Gold Coast Recreation and Sport Inc
X-ORIGINAL-URL:http://gcrs.com.au
X-WR-CALDESC:Events for Gold Coast Recreation and Sport Inc
BEGIN:VEVENT
DTSTART;TZID=UTC+10:20180719T080000
DTEND;TZID=UTC+10:20180719T170000
DTSTAMP:20200229T121622
CREATED:20170427T005704Z
LAST-MODIFIED:20180420T044941Z
UID:756-1531987200-1532019600@gcrs.com.au
SUMMARY:Staff Training
DESCRIPTION:GCRS full team training. \nGCRS closed. \n
URL:http://gcrs.com.au/event/staff-training/
END:VEVENT
END:VCALENDAR