BEGIN:VCALENDAR
VERSION:2.0
PRODID:-//Gold Coast Recreation and Sport Inc - ECPv4.6.19//NONSGML v1.0//EN
CALSCALE:GREGORIAN
METHOD:PUBLISH
X-WR-CALNAME:Gold Coast Recreation and Sport Inc
X-ORIGINAL-URL:http://gcrs.com.au
X-WR-CALDESC:Events for Gold Coast Recreation and Sport Inc
BEGIN:VEVENT
DTSTART;VALUE=DATE:20180507
DTEND;VALUE=DATE:20180508
DTSTAMP:20200229T142745
CREATED:20180507T124211Z
LAST-MODIFIED:20180420T054504Z
UID:554-1525651200-1525737599@gcrs.com.au
SUMMARY:Labour Day
DESCRIPTION:GCRS closed. \n
URL:http://gcrs.com.au/event/labour-day/
END:VEVENT
END:VCALENDAR