BEGIN:VCALENDAR
VERSION:2.0
PRODID:-//Gold Coast Recreation and Sport Inc - ECPv4.6.19//NONSGML v1.0//EN
CALSCALE:GREGORIAN
METHOD:PUBLISH
X-WR-CALNAME:Gold Coast Recreation and Sport Inc
X-ORIGINAL-URL:http://gcrs.com.au
X-WR-CALDESC:Events for Gold Coast Recreation and Sport Inc
BEGIN:VEVENT
DTSTART;TZID=UTC+10:20180701T060000
DTEND;TZID=UTC+10:20180702T110000
DTSTAMP:20200229T143235
CREATED:20170427T003243Z
LAST-MODIFIED:20180420T044150Z
UID:751-1530424800-1530529200@gcrs.com.au
SUMMARY:Gold Coast Marathon
DESCRIPTION:A group of keen runners are training hard to run in the GC Marathon. \nIf you&#8217;d like to get involved please email daniel@gcrs.com.au for more information. \n
URL:http://gcrs.com.au/event/gold-coast-marathon/
END:VEVENT
END:VCALENDAR