BEGIN:VCALENDAR
VERSION:2.0
PRODID:-//Gold Coast Recreation and Sport Inc - ECPv4.6.19//NONSGML v1.0//EN
CALSCALE:GREGORIAN
METHOD:PUBLISH
X-WR-CALNAME:Gold Coast Recreation and Sport Inc
X-ORIGINAL-URL:http://gcrs.com.au
X-WR-CALDESC:Events for Gold Coast Recreation and Sport Inc
BEGIN:VEVENT
DTSTART;TZID=UTC+0:20180502T180000
DTEND;TZID=UTC+0:20180502T200000
DTSTAMP:20200229T142544
CREATED:20170226T125259Z
LAST-MODIFIED:20180420T022936Z
UID:562-1525284000-1525291200@gcrs.com.au
SUMMARY:GCRS Staff Meeting
DESCRIPTION:
URL:http://gcrs.com.au/event/gcrs-staff-meeting/
LOCATION:To Be Advised
ORGANIZER;CN="Gold%20Coast%20Recreation%20and%20Sport%20Inc":MAILTO:admin@gcrs.com.au
END:VEVENT
END:VCALENDAR