BEGIN:VCALENDAR
VERSION:2.0
PRODID:-//Gold Coast Recreation and Sport Inc - ECPv4.6.19//NONSGML v1.0//EN
CALSCALE:GREGORIAN
METHOD:PUBLISH
X-WR-CALNAME:Gold Coast Recreation and Sport Inc
X-ORIGINAL-URL:http://gcrs.com.au
X-WR-CALDESC:Events for Gold Coast Recreation and Sport Inc
BEGIN:VEVENT
DTSTART;VALUE=DATE:20180425
DTEND;VALUE=DATE:20180426
DTSTAMP:20200229T142637
CREATED:20180425T125057Z
LAST-MODIFIED:20180420T052852Z
UID:558-1524614400-1524700799@gcrs.com.au
SUMMARY:Anzac Day Holiday
DESCRIPTION:
URL:http://gcrs.com.au/event/anzac-day-holiday/
END:VEVENT
END:VCALENDAR